BEGIN:VCALENDAR
VERSION:2.0
PRODID:-//Revel in Red - ECPv6.15.20//NONSGML v1.0//EN
CALSCALE:GREGORIAN
METHOD:PUBLISH
X-WR-CALNAME:Revel in Red
X-ORIGINAL-URL:https://www.revelinred.com
X-WR-CALDESC:Events for Revel in Red
REFRESH-INTERVAL;VALUE=DURATION:PT1H
X-Robots-Tag:noindex
X-PUBLISHED-TTL:PT1H
BEGIN:VTIMEZONE
TZID:America/Chicago
BEGIN:DAYLIGHT
TZOFFSETFROM:-0600
TZOFFSETTO:-0500
TZNAME:CDT
DTSTART:20250309T080000
END:DAYLIGHT
BEGIN:STANDARD
TZOFFSETFROM:-0500
TZOFFSETTO:-0600
TZNAME:CST
DTSTART:20251102T070000
END:STANDARD
BEGIN:DAYLIGHT
TZOFFSETFROM:-0600
TZOFFSETTO:-0500
TZNAME:CDT
DTSTART:20260308T080000
END:DAYLIGHT
BEGIN:STANDARD
TZOFFSETFROM:-0500
TZOFFSETTO:-0600
TZNAME:CST
DTSTART:20261101T070000
END:STANDARD
BEGIN:DAYLIGHT
TZOFFSETFROM:-0600
TZOFFSETTO:-0500
TZNAME:CDT
DTSTART:20270314T080000
END:DAYLIGHT
BEGIN:STANDARD
TZOFFSETFROM:-0500
TZOFFSETTO:-0600
TZNAME:CST
DTSTART:20271107T070000
END:STANDARD
END:VTIMEZONE
BEGIN:VEVENT
DTSTART;TZID=America/Chicago:20260425T200000
DTEND;TZID=America/Chicago:20260425T230000
DTSTAMP:20260423T103700
CREATED:20251205T062752Z
LAST-MODIFIED:20260420T052056Z
UID:2246-1777147200-1777158000@www.revelinred.com
SUMMARY:Revel in Red at Twisted Tree Music Hall
DESCRIPTION:The Twisted Tree Music Hall presents Revel in Red\n\n🔥 Jacksonville\, IL 🔥\nOn Saturday\, April 25th\, Revel in Red is bringing the ROCK to Jacksonville! \nFrom the biggest anthems of the ’70s & ’80s to today’s modern rock hits\, Revel in Red packs every set with the songs you can’t help but sing along to. Expect everything from Journey\, Bon Jovi\, and Van Halen to Pink\, The Killers\, and My Chemical Romance. \n⚡ High-energy rock all night🍻 Drinks flowing & a crowd ready to party🎸 A stage built for unforgettable memories \nRound up your crew\, it’s time for a Revel in Red party. This is the show you don’t want to miss! \n📍 1061 E Morton Ave\, Jacksonville\, Illinois 62650
URL:https://www.revelinred.com/event-single/revel-in-red-at-twisted-tree-jacksonville-4-25-26/
LOCATION:Twisted Tree Music Hall\, 1061 East Morton Avenue\, Jacksonville\, IL\, 62650\, United States
END:VEVENT
BEGIN:VEVENT
DTSTART;TZID=America/Chicago:20260502T200000
DTEND;TZID=America/Chicago:20260502T230000
DTSTAMP:20260423T103700
CREATED:20260305T052904Z
LAST-MODIFIED:20260305T052904Z
UID:2557-1777752000-1777762800@www.revelinred.com
SUMMARY:Revel in Red at Crusen's War Dr
DESCRIPTION:Crusen’s War Dr welcomes Revel in Red!\nRevel in Red is a six-piece powerhouse that turns every venue into a concert experience. With a massive sound and a versatile setlist\, they bridge the gap between classic rock legends and today’s chart-toppers. Fans can expect a night of non-stop energy\, featuring the world’s favorite anthems and a sneak peek at the band’s upcoming original music.
URL:https://www.revelinred.com/event-single/revel-in-red-at-crusens-war-dr-4-2/
LOCATION:Crusen’s War Dr – Peoria\, IL\, 426 E War Memorial Dr\, Peoria\, 61614\, United States
END:VEVENT
BEGIN:VEVENT
DTSTART;TZID=America/Chicago:20260523T200000
DTEND;TZID=America/Chicago:20260523T200000
DTSTAMP:20260423T103700
CREATED:20260305T053934Z
LAST-MODIFIED:20260305T054013Z
UID:2563-1779566400-1779566400@www.revelinred.com
SUMMARY:Revel in Red at Crusen's Rt 29
DESCRIPTION:Crusen’s Rt 29 presents Revel in Red\n\nFrom the arena rock anthems of the ’70s & ’80s to the modern hits you crank up today\, Revel in Red brings the ultimate party playlist to life on stage. Expect everything from Prince\, Van Halen\, Boston\, Night Ranger\, Bon Jovi\, Journey & REO… to Pink\, The Killers\, and My Chemical Romance. \n🔥 High-energy rock.🍻 Drinks flowing all night.🎶 A crowd ready to sing every word. \nIf you’re looking for a party\, this is it! \n🕘 Music kicks off at 8PM
URL:https://www.revelinred.com/event-single/crusens-rt29-05-23-26/
LOCATION:Crusen’s Rt 29 – Creve Coeur\, IL\, 1007 N. Main S\, Creve Coeur\, IL\, 61610\, United States
END:VEVENT
BEGIN:VEVENT
DTSTART;TZID=America/Chicago:20260605T200000
DTEND;TZID=America/Chicago:20260605T230000
DTSTAMP:20260423T103700
CREATED:20260420T053229Z
LAST-MODIFIED:20260420T055257Z
UID:2578-1780689600-1780700400@www.revelinred.com
SUMMARY:Revel in Red at The Castle Theatre w/The Great Affairs
DESCRIPTION:The Castle Theatre Welcomes Revel in Red  with special guests The Great Affairs from Nashville\n\n🔥 Bloomington\, IL 🔥\nOn Friday\, June 5th\, Revel in Red is bringing a FULL-FORCE ROCK ANTHEM PARTY to the Castle Theatre in Bloomington\, IL! \nFrom the biggest anthems of the ’70s & ’80s to today’s modern rock hits\, Revel in Red packs every set with the songs you can’t help but sing along to. Expect everything from Journey\, Bon Jovi\, and Van Halen to Pink\, The Killers\, and My Chemical Romance along with some great original music mixed in! \n⚡ High-energy rock all night🍻 Drinks flowing & a crowd ready to party🎸 A stage built for unforgettable memories \nUnless otherwise noted\, ALL patrons must be 18 years of age or older with valid ID to attend. Patrons under the age of 18 may attend with a parent or legal guardian.\n\nTickets are non-refundable unless the event is canceled. Tickets cannot be replaced if lost\, stolen\, or destroyed. No refunds or exchanges. Event\, Artists\, Date & Time subject to change. No outside food\, beverage\, or oversized bags are permitted inside the venue. All persons and their belongings are subject to search upon entry. The ticket holder voluntarily assumes all risks in attending the event\, whether occurring before\, during\, or after the event and releases the venue and its agents from all related claims.\n\nThe Castle Theatre is a mostly standing-room venue. Unless tickets specifically state they are “SEATED”\, you are purchasing a standing room only ticket.\n\nPlease note that The Castle Theatre is not responsible for tickets purchased from any third-party ticketing site and cannot guarantee the validity of any third-party site tickets. Only tickets sold through Opendate via thecastletheatre.com are guaranteed entry.
URL:https://www.revelinred.com/event-single/revel-in-red-at-the-castle-theatre-6-5-26-2/
LOCATION:IL
END:VEVENT
BEGIN:VEVENT
DTSTART;TZID=America/Chicago:20260606T190000
DTEND;TZID=America/Chicago:20260606T220000
DTSTAMP:20260423T103700
CREATED:20260131T191615Z
LAST-MODIFIED:20260304T071645Z
UID:2385-1780772400-1780783200@www.revelinred.com
SUMMARY:Revel in Red - St Jude Night at Peacock's Pub
DESCRIPTION:Street party with Revel in Red in front of Peacock’s Pub Sports Bar & Grill in Bartbonvill\, IL!\nIt’s a Rock n’ Roll party in the streets all while raising money for the kids of St. Jude!
URL:https://www.revelinred.com/event-single/revel-in-red-st-jude-night-at-peacocks-pub-06-05-26/
LOCATION:Peacocks Pub – Bartonville\, IL\, 5603 S Adams St\, Bartonville\, IL\, 61607\, United States
END:VEVENT
BEGIN:VEVENT
DTSTART;TZID=America/Chicago:20260612T190000
DTEND;TZID=America/Chicago:20260612T220000
DTSTAMP:20260423T103700
CREATED:20260304T073927Z
LAST-MODIFIED:20260304T075144Z
UID:2517-1781290800-1781301600@www.revelinred.com
SUMMARY:Revel in Red at CEFCU Center Stage Peoria River Front w/ Emperors&Angels
DESCRIPTION:Peoria RiverFront Events / CEFCU Center Stage \nKnown for delivering a stadium-quality show across Central Illinois\, Revel in Red brings a high-energy performance that spans five decades of hits. The six-piece lineup covers everything from the 1970s to today\, ensuring a setlist where every song is an anthem. While they continue to celebrate the classics\, the band has begun introducing select original material into their live sets—giving fans a firsthand look at their evolving sound. \nOpening the show will be Peoria’s own Emperors&Angels!
URL:https://www.revelinred.com/event-single/revel-in-red-at-cefcu-center-stage-peoria-river-front-w-emperors-angels-2/
LOCATION:CEFCU Center Stage at The Landing – Peoria\, IL\, 200 Northeast Water Street\, Peoria\, IL\, 61602\, United States
END:VEVENT
BEGIN:VEVENT
DTSTART;TZID=America/Chicago:20260619T190000
DTEND;TZID=America/Chicago:20260619T220000
DTSTAMP:20260423T103700
CREATED:20260304T073926Z
LAST-MODIFIED:20260304T075100Z
UID:2516-1781895600-1781906400@www.revelinred.com
SUMMARY:Revel in Red at Franky & Louie's Beach Front Bar\, Grill\, Lake of the Ozarks
DESCRIPTION:Franky & Louie’s Beachfront Bar & Grill presents the return of Revel in Red. Night #1!
URL:https://www.revelinred.com/event-single/revel-in-red-at-franky-and-louies-lake-of-the-ozarks-4/
LOCATION:Franky & Louie’s Beachfront Bar & Grill – Lake of the Ozarks\, MO\, 1028 Deer Valley Rd\, Sunrise Beach\, MO\, 65079\, United States
END:VEVENT
BEGIN:VEVENT
DTSTART;TZID=America/Chicago:20260620T190000
DTEND;TZID=America/Chicago:20260620T220000
DTSTAMP:20260423T103700
CREATED:20260304T073925Z
LAST-MODIFIED:20260304T075045Z
UID:2515-1781982000-1781992800@www.revelinred.com
SUMMARY:Revel in Red at Franky & Louie's Beach Front Bar\, Grill\, Lake of the Ozarks
DESCRIPTION:Franky & Louie’s Beachfront Bar & Grill presents the return of Revel in Red. Night #2!
URL:https://www.revelinred.com/event-single/revel-in-red-at-franky-and-louies-lake-of-the-ozarks-3/
LOCATION:Franky & Louie’s Beachfront Bar & Grill – Lake of the Ozarks\, MO\, 1028 Deer Valley Rd\, Sunrise Beach\, MO\, 65079\, United States
END:VEVENT
BEGIN:VEVENT
DTSTART;TZID=America/Chicago:20260717T190000
DTEND;TZID=America/Chicago:20260717T220000
DTSTAMP:20260423T103700
CREATED:20260304T073924Z
LAST-MODIFIED:20260304T075025Z
UID:2514-1784314800-1784325600@www.revelinred.com
SUMMARY:Revel in Red at Chatham Jaycee Sweetcorn Festival
DESCRIPTION:Chatham Jaycee Sweetcorn Festival presents the return of Revel in Red! \nRevel in Red has earned its reputation as a premier regional act by mastering the soundtrack of the last 50 years. From the arena-rock staples of Van Halen and Journey to the modern hits of P!nk and Bruno Mars\, their show is designed for maximum energy and crowd connection. Between the hits you know by heart\, keep an ear out for new\, original tracks as the band begins to showcase their own music on the road to 2026.
URL:https://www.revelinred.com/event-single/revel-in-red-at-chatham-jaycee-sweetcorn-festival-2/
LOCATION:Community Park\, Chatham IL\, 711 S Park Ave\, Chatham\, Chatham\, 62629\, United States
END:VEVENT
BEGIN:VEVENT
DTSTART;TZID=America/Chicago:20260718T190000
DTEND;TZID=America/Chicago:20260718T220000
DTSTAMP:20260423T103700
CREATED:20260304T073923Z
LAST-MODIFIED:20260304T074959Z
UID:2513-1784401200-1784412000@www.revelinred.com
SUMMARY:Revel in Red at Mackinaw Valley Winery
DESCRIPTION:Mackinaw Valley Winery presents Revel in Red! \nRevel in Red has earned its reputation as a premier regional act by mastering the soundtrack of the last 50 years. From the arena-rock staples of Van Halen and Journey to the modern hits of P!nk and Bruno Mars\, their show is designed for maximum energy and crowd connection. Between the hits you know by heart\, keep an ear out for new\, original tracks as the band begins to showcase their own music on the road to 2026.
URL:https://www.revelinred.com/event-single/revel-in-red-at-mackinaw-valley-winery-4/
LOCATION:Mackinaw Valley Vineyard – Mackinaw\, IL\, 33633 IL-9\, Mackinaw\, IL\, 61755\, United States
END:VEVENT
BEGIN:VEVENT
DTSTART;TZID=America/Chicago:20260724T180000
DTEND;TZID=America/Chicago:20260724T230000
DTSTAMP:20260423T103700
CREATED:20260420T060112Z
LAST-MODIFIED:20260420T060112Z
UID:2591-1784916000-1784934000@www.revelinred.com
SUMMARY:Saving Able w/Revel in Red - Gem City Concert Series
DESCRIPTION:Gem City Concert Series presents SAVING ABEL w/ Revel in Red \n🔥 Quincy\, IL 🔥\n\nOn July 24th\, 2026\, Revel in Red joins up with Saving Abel for an amazing night of ROCK! \nFrom the biggest anthems of the ’70s & ’80s to today’s modern rock hits\, Revel in Red packs every set with the songs you can’t help but sing along to. Expect everything from Journey\, Bon Jovi\, and Van Halen to Pink\, The Killers\, and My Chemical Romance along with some great original music mixed in! \nTickets on sale now!
URL:https://www.revelinred.com/event-single/revel-in-red-quincy-saving-abel-7-24-26/
LOCATION:Gem City Concert Series at Lincoln Park – Quincy\, IL\, 1231 Bonansinga Dr\, Quincy\, IL\, 62301\, United States
END:VEVENT
BEGIN:VEVENT
DTSTART;TZID=America/Chicago:20260725T190000
DTEND;TZID=America/Chicago:20260725T220000
DTSTAMP:20260423T103700
CREATED:20260304T073921Z
LAST-MODIFIED:20260304T074945Z
UID:2512-1785006000-1785016800@www.revelinred.com
SUMMARY:Revel in Red at Pour Bros. Craft Taproom
DESCRIPTION:Pour Bros. Craft Taproom presents the return of Revel in Red! \nRevel in Red is a six-piece powerhouse that turns every venue into a concert experience. With a massive sound and a versatile setlist\, they bridge the gap between classic rock legends and today’s chart-toppers. Fans can expect a night of non-stop energy\, featuring the world’s favorite anthems and a some brand new original music.
URL:https://www.revelinred.com/event-single/revel-in-red-at-pour-bros-craft-taproom-2/
LOCATION:Pour BROS. Craft Taproom – Peoria Heights\, IL\, 4450 N Prospect Rd Ste C-1\, Peoria Heights\, IL\, 61616\, United States
END:VEVENT
BEGIN:VEVENT
DTSTART;TZID=America/Chicago:20260731T190000
DTEND;TZID=America/Chicago:20260731T220000
DTSTAMP:20260423T103700
CREATED:20260304T073920Z
LAST-MODIFIED:20260304T075238Z
UID:2511-1785524400-1785535200@www.revelinred.com
SUMMARY:38 SPECIAL With Special Guest Revel In Red
DESCRIPTION:38 SPECIAL\nWITH REVEL IN RED \nFRI\, JULY 31\, 2026\nGATES 6PM – SHOW 7:30PM \nHANCOCK COUNTY FAIRGROUNDS\nBRITT\, IOWA
URL:https://www.revelinred.com/event-single/38-special-with-revel-in-red-2/
LOCATION:IL
END:VEVENT
BEGIN:VEVENT
DTSTART;TZID=America/Chicago:20260807T200000
DTEND;TZID=America/Chicago:20260807T230000
DTSTAMP:20260423T103700
CREATED:20260304T073918Z
LAST-MODIFIED:20260304T074839Z
UID:2510-1786132800-1786143600@www.revelinred.com
SUMMARY:Revel in Red at Franky & Louie's Beach Front Bar\, Grill\, Lake of the Ozarks
DESCRIPTION:Franky & Louie’s Beach Front Bar & Grill welcome back Revel in Red!! \nKnown for delivering a stadium-quality show across Central Illinois\, Revel in Red brings a high-energy performance that spans five decades of hits. The six-piece lineup covers everything from the 1970s to today\, ensuring a setlist where every song is an anthem. While they continue to celebrate the classics\, the band has begun introducing select original material into their live sets—giving fans a firsthand look at their evolving sound.
URL:https://www.revelinred.com/event-single/revel-in-red-at-franky-and-louies-2/
LOCATION:Franky & Louie’s Beachfront Bar & Grill – Lake of the Ozarks\, MO\, 1028 Deer Valley Rd\, Sunrise Beach\, MO\, 65079\, United States
END:VEVENT
BEGIN:VEVENT
DTSTART;TZID=America/Chicago:20260808T200000
DTEND;TZID=America/Chicago:20260808T230000
DTSTAMP:20260423T103700
CREATED:20260304T073917Z
LAST-MODIFIED:20260304T074827Z
UID:2509-1786219200-1786230000@www.revelinred.com
SUMMARY:Revel in Red at Franky & Louie's Beach Front Bar\, Grill\, Lake of the Ozarks
DESCRIPTION:Franky & Louie’s Beach Front Bar & Grill welcomes back Revel in Red! \nRevel in Red is a six-piece powerhouse that turns every venue into a concert experience. With a massive sound and a versatile setlist\, they bridge the gap between classic rock legends and today’s chart-toppers. Fans can expect a night of non-stop energy\, featuring the world’s favorite anthems and a few of their own as well!.
URL:https://www.revelinred.com/event-single/revel-in-red-at-franky-louies-beach-front-bar-grill-lake-of-the-ozarks-2/
LOCATION:Franky & Louie’s Beachfront Bar & Grill – Lake of the Ozarks\, MO\, 1028 Deer Valley Rd\, Sunrise Beach\, MO\, 65079\, United States
END:VEVENT
BEGIN:VEVENT
DTSTART;TZID=America/Chicago:20260829T190000
DTEND;TZID=America/Chicago:20260829T220000
DTSTAMP:20260423T103700
CREATED:20260304T073916Z
LAST-MODIFIED:20260304T074715Z
UID:2508-1788030000-1788040800@www.revelinred.com
SUMMARY:Revel in Red at Pekin Downtown Concert Series
DESCRIPTION:Revel in Red is BACK for the Pekin Downtown Summer Concert Series! \nKnown for delivering a stadium-quality show across Central Illinois\, Revel in Red brings a high-energy performance that spans five decades of hits. The six-piece lineup covers everything from the 1970s to today\, ensuring a setlist where every song is an anthem. Fans can expect a night of non-stop energy\, featuring the world’s favorite anthems and a few of their own!
URL:https://www.revelinred.com/event-single/revel-in-red-at-pekin-downtown-concert-series-3/
LOCATION:Pekin Downtown Concert Series – Pekin\, IL\, 342 Court St\, Pekin\, IL\, 61554\, United States
END:VEVENT
BEGIN:VEVENT
DTSTART;TZID=America/Chicago:20260905T190000
DTEND;TZID=America/Chicago:20260905T220000
DTSTAMP:20260423T103700
CREATED:20260304T073915Z
LAST-MODIFIED:20260304T075430Z
UID:2507-1788634800-1788645600@www.revelinred.com
SUMMARY:Revel in Red at Mackinaw Valley Winery
DESCRIPTION:Mackinaw Valley Winery welcomes back Revel in Red! \nKnown for delivering a stadium-quality show across Central Illinois\, Revel in Red brings a high-energy performance that spans five decades of hits. The six-piece lineup covers everything from the 1970s to today\, ensuring a setlist where every song is an anthem. While they continue to celebrate the classics\, the band has begun introducing select original material into their live sets—giving fans a firsthand look at their evolving sound.
URL:https://www.revelinred.com/event-single/revel-in-red-at-mackinaw-valley-winery-3/
LOCATION:Mackinaw Valley Vineyard – Mackinaw\, IL\, 33633 IL-9\, Mackinaw\, IL\, 61755\, United States
END:VEVENT
BEGIN:VEVENT
DTSTART;TZID=America/Chicago:20260925T200000
DTEND;TZID=America/Chicago:20260925T230000
DTSTAMP:20260423T103700
CREATED:20260304T073913Z
LAST-MODIFIED:20260304T075421Z
UID:2506-1790366400-1790377200@www.revelinred.com
SUMMARY:Revel in Red at Route 66 Mother Road Festival
DESCRIPTION:The cars\, the music\, the fun and nostalgia that Route 66 has brought to generations will return for a 25th year\, rolling into historic downtown Springfield September 25-27. We also have several extra surprises this year as we celebrate 100 years of Route 66! \nRevel in Red has earned its reputation as a premier regional act by mastering the soundtrack of the last 50 years. From the arena-rock staples of Van Halen and Journey to the modern hits of P!nk and Bruno Mars\, their show is designed for maximum energy and crowd connection. Between the hits you know by heart\, keep an ear out for new\, original tracks as the band begins to showcase their own music on the road to 2026.
URL:https://www.revelinred.com/event-single/revel-in-red-at-route-66-mother-road-festival-2/
LOCATION:Downtown – Springfield\, IL\, 1 Old State Capitol Plaza\, Springfield\, IL\, 62701\, United States
END:VEVENT
BEGIN:VEVENT
DTSTART;TZID=America/Chicago:20260926T200000
DTEND;TZID=America/Chicago:20260926T230000
DTSTAMP:20260423T103700
CREATED:20260304T073912Z
LAST-MODIFIED:20260304T074509Z
UID:2505-1790452800-1790463600@www.revelinred.com
SUMMARY:Revel in Red at Metamora Kiwanis Boys of Fall Concert
DESCRIPTION:Metamora Kiwanis boys of fall concert presents Revel in Red \nRevel in Red has earned its reputation as a premier regional act by mastering the soundtrack of the last 50 years. From the arena-rock staples of Van Halen and Journey to the modern hits of P!nk and Bruno Mars\, their show is designed for maximum energy and crowd connection. Between the hits you know by heart\, keep an ear out for new\, original tracks!
URL:https://www.revelinred.com/event-single/revel-in-red-at-metamora-kiwanis-boys-of-fall-concert-2/
LOCATION:IL
END:VEVENT
END:VCALENDAR